BEGIN:VCALENDAR
VERSION:2.0
PRODID:-//eventon.com NONSGML v1.0//EN
BEGIN:VEVENT
UID:69e4d15bb1e79
DTSTAMP:20260419T135803
DTSTART:20210212T110000Z
DTEND:20210212T120000Z
LOCATION:
SUMMARY:Siel Bleu 'Exercise for Shedders' Live & Online
DESCRIPTION: Shedders are invited to take part in these customised classes developed and presented by Siel Bleu on YouTube every Friday in February at 12pm. They are hosted live with Cormac but can be watched back later on the same link. The class on Friday 12 February can be joined here.
END:VEVENT
END:VCALENDAR